BEGIN:VCALENDAR
VERSION:2.0
PRODID:-//wp-events-plugin.com//7.2.3.1//EN
TZID:America/Los_Angeles
X-WR-TIMEZONE:America/Los_Angeles
BEGIN:VEVENT
UID:268@usrotary.org
DTSTART;TZID=America/Los_Angeles:20250515T070000
DTEND;TZID=America/Los_Angeles:20250515T083000
DTSTAMP:20250130T162430Z
URL:https://usrotary.org/events/program-nathan-kaiser-2bar-spiritsgrit-pas
 sion-and-bourbon-may-15-2025/
SUMMARY:Program:  Nathan Kaiser\, 2BAR Spirits\,"Grit\, Passion\, and Bourb
 on!" May 15\, 2025
DESCRIPTION:\n\n\n\n\nJoin the University Sunrise Rotary Club for a progr
 am featuring Nathan Kaiser of 2BAR Spirits.\n\n\n\nThe&nbsp\;program will 
 be presented in person and on Zoom on Thursday morning.&nbsp\; The formal 
 meeting including the program runs from 7:30-8:30 a.m.&nbsp\;&nbsp\;No reg
 istration is required\, and the program is free.\n\n\n\n\nThe in-person me
 eting will be at the Wedgwood Community Church at 8201 30th Ave NE\, Seatt
 le. Doors open at 7:00 a.m. and the program begins at 7:30 a.m.\n\n\n\n\n\
 nClick here to join the meeting on Zoom.&nbsp\; The line will open shortly
  after 7:00 a.m.\n\n\n\n\n\n\n\n\n\n\n\n\nFrom tech maven to bourbon savan
 t\, Nathan Kaiser swapped algorithms for alchemy to create Seattle's very 
 own 2BAR Spirits. The name '2BAR' is a nod to his family's roots on the ru
 gged ranchlands of South Texas. When he's not distilling the essence of Se
 attle into every bottle\, Nathan's wrangling something a tad livelier than
  livestock—his trio of spirited young lads. And though he's a fan of the
  sail and the slope\, these days he's more likely to be caught in the spir
 ited storm of family life and the flourishing world of fine spirits.\n\n\n
 \n\n
CATEGORIES:Speakers
END:VEVENT
BEGIN:VTIMEZONE
TZID:America/Los_Angeles
X-LIC-LOCATION:America/Los_Angeles
BEGIN:DAYLIGHT
DTSTART:20250309T030000
TZOFFSETFROM:-0800
TZOFFSETTO:-0700
TZNAME:PDT
END:DAYLIGHT
END:VTIMEZONE
END:VCALENDAR