BEGIN:VCALENDAR
VERSION:2.0
PRODID:-//wp-events-plugin.com//7.2.3.1//EN
TZID:America/Los_Angeles
X-WR-TIMEZONE:America/Los_Angeles
BEGIN:VEVENT
UID:255@usrotary.org
DTSTART;TZID=America/Los_Angeles:20241114T070000
DTEND;TZID=America/Los_Angeles:20241114T083000
DTSTAMP:20241107T182159Z
URL:https://usrotary.org/events/program-on-programs/
SUMMARY:Program on Programs
DESCRIPTION:\nJoin the University Sunrise Rotary Club for a program featu
 ring a discussion of our past and future programs lead by Paul Weibel.\n\n
 \n\nThe&nbsp\;program will be presented on Zoom on Thursday morning with t
 he Zoom line opening at 7 a.m. The formal meeting including the program ru
 ns from 7:30-8:30 a.m. No registration is required\, and the program is fr
 ee.\n\n\n\nClick here to join the meeting Thursday morning.\n
CATEGORIES:Speakers
END:VEVENT
BEGIN:VTIMEZONE
TZID:America/Los_Angeles
X-LIC-LOCATION:America/Los_Angeles
BEGIN:STANDARD
DTSTART:20241103T010000
TZOFFSETFROM:-0700
TZOFFSETTO:-0800
TZNAME:PST
END:STANDARD
END:VTIMEZONE
END:VCALENDAR