BEGIN:VCALENDAR
VERSION:2.0
PRODID:-//wp-events-plugin.com//7.2.3.1//EN
TZID:America/Los_Angeles
X-WR-TIMEZONE:America/Los_Angeles
BEGIN:VEVENT
UID:287@usrotary.org
DTSTART;TZID=America/Los_Angeles:20250619T070000
DTEND;TZID=America/Los_Angeles:20250619T083000
DTSTAMP:20250617T044900Z
URL:https://usrotary.org/events/program-our-club-service-june-19-2025/
SUMMARY:Program:  Our Club Service\, June 19\, 2025
DESCRIPTION:\nJoin the&nbsp\;University Sunrise Rotary Club&nbsp\;for a pro
 gram featuring a report on our Club's Service efforts lead by Nancy Bolin.
 \n\n\n\nThe&nbsp\;program will be presented in person and on Zoom on Thurs
 day morning.&nbsp\; The formal meeting including the program runs from 7:3
 0-8:30 a.m.&nbsp\;&nbsp\;No registration is required\, and the program is 
 free.\n\n\n\n\nThe in-person meeting will be at the Wedgwood Community Chu
 rch at 8201 30th Ave NE\, Seattle. Doors open at 7:00 a.m. and the program
  begins at 7:30 a.m.\n\n\n\n\n\nClick here to join the meeting on Zoom.&nb
 sp\; The line will open shortly after 7:00 a.m.\n\n\n\n\n\n\n\n\n"SERVICE 
 ABOVE SELF"\n\n\n\n\n\n\n\nThis is our Rotary motto and our club has had e
 xcellent examples of that motto in action.&nbsp\; Since the beginning of t
 his Rotary year\, the club has accomplished 10 community service projects
 —1 more than was projected for the entire year.&nbsp\; And that is only 
 1 of the 5 areas of service:\n\n\n\n\nCommunity\n\n\n\nInternational\n\n\n
 \nVocational\n\n\n\nYouth\n\n\n\nClub\n\n\n\n\nOur presenters will summari
 ze what each area of service is about and what you can do in each area. Ou
 r incoming President\, Ed Bronsdon\, is encouraging each club member to se
 rve in at least one of the five divisions each month.  That should be pre
 tty easy for our talented membership.  Join us for more tips on how you c
 an be more involved in “Service Above Self."\n
CATEGORIES:Community Service,Speakers
END:VEVENT
BEGIN:VTIMEZONE
TZID:America/Los_Angeles
X-LIC-LOCATION:America/Los_Angeles
BEGIN:DAYLIGHT
DTSTART:20250309T030000
TZOFFSETFROM:-0800
TZOFFSETTO:-0700
TZNAME:PDT
END:DAYLIGHT
END:VTIMEZONE
END:VCALENDAR