BEGIN:VCALENDAR
VERSION:2.0
PRODID:-//wp-events-plugin.com//7.2.3.1//EN
TZID:America/Los_Angeles
X-WR-TIMEZONE:America/Los_Angeles
BEGIN:VEVENT
UID:274@usrotary.org
DTSTART;TZID=America/Los_Angeles:20250508T070000
DTEND;TZID=America/Los_Angeles:20250508T083000
DTSTAMP:20250507T051411Z
URL:https://usrotary.org/events/program-rachele-bouchand-district-governor
 -may-8-2025/
SUMMARY:Program:  Rachele Bouchand\, District Governor\, "Creating a Bridge
  to Attract Young Professionals to Rotary\," May 8\, 2025
DESCRIPTION:\nJoin the University Sunrise Rotary Club for a program featu
 ring Rotary District 5030 District Governor Rachele Bouchand.\n\n\n\nThe&n
 bsp\;program will be presented on Zoom on Thursday morning with the Zoom l
 ine opening at 7 a.m.&nbsp\; The formal meeting including the program runs
  from 7:30-8:30 a.m.&nbsp\;&nbsp\;No registration is required\, and the pr
 ogram is free.\n\n\n\nThe meeting will be available via Zoom.&nbsp\;Click 
 here to join the meeting Thursday morning.&nbsp\; The Zoom line will open 
 shortly after 7 a.m.\n\n\n\n\n\n\n\n\n\n\n\nRachele&nbsp\;currently serves
  as the Governor of District&nbsp\;5030. She’s been a member of the Bell
 evue&nbsp\;Rotary&nbsp\;Club since 2009 and is focused on growing leadersh
 ip&nbsp\;opportunities for our members through the RISE (Rotarians Inspire
 d to Succeed and Engage) leadership program.&nbsp\;Rachele&nbsp\;was also 
 a member of the&nbsp\;Rotary&nbsp\;International Next Generation Conferenc
 e in 2014\, which represented 30 emerging Rotary leaders across the United
  States. Lastly\, she was able to blend her&nbsp\;vocational and&nbsp\;Rot
 ary&nbsp\;lives when she served as a member of the Global Polio Finance Co
 mmittee.\n\n\n\nHer&nbsp\;Rotary&nbsp\;classification is Financial Service
 s-Family Office.&nbsp\;Rachele&nbsp\;currently serves as Managing Director
  of Pathstone\, where she is responsible for advising families and single-
 family offices on a variety of wealth management and estate planning topic
 s. She has over 20 years’ experience working with multi-generational wea
 lth and foundations.\n\n\n\nPresentation Summary:  Creating a Bridge to At
 tract Young Professionals to Rotary. There is a growing demand for leaders
 hip training\, mentorship and making a meaningful impact in our communitie
 s. However\, many don't know that Rotary has been providing expertise in t
 hese areas for several years. We'll discuss how to use storytelling to sha
 re our experiences. Additionally\, we will explore existing programs and r
 esources where people can deepen their leadership&nbsp\;training\, mentors
 hip and increase their impact in their local and global&nbsp\;communities.
  We'll end with tangible examples of how to bridge the gap between Seattle
  International District Rotary Club's existing strengths and connecting wi
 th others.\n
CATEGORIES:Speakers
END:VEVENT
BEGIN:VTIMEZONE
TZID:America/Los_Angeles
X-LIC-LOCATION:America/Los_Angeles
BEGIN:DAYLIGHT
DTSTART:20250309T030000
TZOFFSETFROM:-0800
TZOFFSETTO:-0700
TZNAME:PDT
END:DAYLIGHT
END:VTIMEZONE
END:VCALENDAR