BEGIN:VCALENDAR
VERSION:2.0
PRODID:-//wp-events-plugin.com//7.2.3.1//EN
TZID:America/Los_Angeles
X-WR-TIMEZONE:America/Los_Angeles
BEGIN:VEVENT
UID:349@usrotary.org
DTSTART;TZID=America/Los_Angeles:20260723T070000
DTEND;TZID=America/Los_Angeles:20260723T083000
DTSTAMP:20260106T205000Z
URL:https://usrotary.org/events/program-report-of-the-university-sunrise-s
 ervice-foundation-to-the-club-membership-july-23-2026/
SUMMARY:Program: Report of the University Sunrise Service Foundation to the
  Club Membership\, July 23\, 2026
DESCRIPTION:\nJoin the&nbsp\;University Sunrise Rotary Club&nbsp\;for a pro
 gram featuring a report to our membership from our Club's Foundation\, the
  University Sunrise Rotary Service Foundation.\n\n\n\nThe&nbsp\;program wi
 ll be presented on Zoom on Thursday morning with the Zoom line opening at 
 7 a.m.&nbsp\; The formal meeting including the program runs from 7:30-8:30
  a.m.&nbsp\;&nbsp\;No registration is required\, and the program is free.\
 n\n\n\nThe meeting will be available via Zoom.&nbsp\; Click here to join t
 he meeting Thursday morning.&nbsp\; The Zoom line will open shortly after 
 7 a.m.\n\n\n\n\n\n\n\nDownload the entire presentation here:\n\n\n\nUniver
 sity Sunrise Rotary Service Foundation Presentation 010826Download\n
CATEGORIES:Speakers
END:VEVENT
BEGIN:VTIMEZONE
TZID:America/Los_Angeles
X-LIC-LOCATION:America/Los_Angeles
BEGIN:DAYLIGHT
DTSTART:20260308T030000
TZOFFSETFROM:-0800
TZOFFSETTO:-0700
TZNAME:PDT
END:DAYLIGHT
END:VTIMEZONE
END:VCALENDAR