BEGIN:VCALENDAR
VERSION:2.0
PRODID:-//wp-events-plugin.com//7.2.3.1//EN
TZID:America/Los_Angeles
X-WR-TIMEZONE:America/Los_Angeles
BEGIN:VEVENT
UID:315@usrotary.org
DTSTART;TZID=America/Los_Angeles:20260108T070000
DTEND;TZID=America/Los_Angeles:20260108T083000
DTSTAMP:20250715T185650Z
URL:https://usrotary.org/events/program-report-of-the-university-sunrise-s
 ervice-foundation-to-the-club-membership/
SUMMARY:Program:  Report of the University Sunrise Service Foundation to th
 e Club Membership\, January 8\, 2026
DESCRIPTION:\nThe&nbsp\;program will be presented in person and on Zoom on 
 Thursday morning.&nbsp\; The formal meeting including the program runs fro
 m 7:30-8:30 a.m.&nbsp\;&nbsp\;No registration is required\, and the progra
 m is free.\n\n\n\n\nThe in-person meeting will be at the North Seattle Chu
 rch\, 2150 N 122nd\, Seattle.  Doors open at 7:00 a.m. and the program be
 gins at 7:30 a.m.\n\n\n\n\n\nClick here to join the meeting on Zoom.  The
  line will open shortly after 7:00 a.m.\n\n
CATEGORIES:Speakers
END:VEVENT
BEGIN:VTIMEZONE
TZID:America/Los_Angeles
X-LIC-LOCATION:America/Los_Angeles
BEGIN:STANDARD
DTSTART:20251102T010000
TZOFFSETFROM:-0700
TZOFFSETTO:-0800
TZNAME:PST
END:STANDARD
END:VTIMEZONE
END:VCALENDAR