BEGIN:VCALENDAR
VERSION:2.0
PRODID:-//wp-events-plugin.com//7.2.3.1//EN
TZID:America/Los_Angeles
X-WR-TIMEZONE:America/Los_Angeles
BEGIN:VEVENT
UID:237@usrotary.org
DTSTART;TZID=America/Los_Angeles:20240718T071500
DTEND;TZID=America/Los_Angeles:20240718T083000
DTSTAMP:20240717T203114Z
URL:https://usrotary.org/events/program-rich-white-the-boeing-company-boei
 ng-in-washington-july-18-2024/
SUMMARY:Program: Susan Champlain\, The Boeing Company\, "Boeing in Washingt
 on\," July 18\, 2024
DESCRIPTION:\nJoin the&nbsp\;University Sunrise Rotary Club&nbsp\;for a pro
 gram featuring Susan Champlain of The Boeing Company.\n\n\n\nThe&nbsp\;pro
 gram will be presented in person and on Zoom on Thursday morning with the 
 Zoom line opening at 7:00 a.m.&nbsp\; The formal meeting including the pro
 gram runs from 7:30-8:30 a.m.&nbsp\;&nbsp\;No registration is required\, a
 nd the program is free.\n\n\n\nThe in-person meeting will be at the Wedgwo
 od Community Church at 8201 30th Ave NE\, Seattle. Doors open at 7:00 a.m.
  and the program begins at 7:30 a.m. The meeting will also be available vi
 a Zoom.&nbsp\;&nbsp\;Click here to join the meetingThursday morning.&nbsp\
 ; The Zoom line will open shortly after 7:00 a.m.\n\n\n\n\n\n\n\nSusan Cha
 mplain\, Boeing Company\n\n\n\nSusan Champlain is senior director of NW Re
 gion Government Operations. She leads the Northwest Region State &amp\; Lo
 cal Government Operations team\, managing relationships with elected offic
 ials and business leaders in Washington\, Oregon\, Montana\, Idaho and Haw
 aii.\n\n\n\nPreviously\, Susan held a series of positions within Boeing in
 cluding policy and state and local government relations roles where she de
 veloped company positions on public policy and represented the company in 
 Olympia\, Wash. She joined Boeing in 1999 as manager of Legislative Affair
 s in Washington DC\, lobbying Members of Congress on international trade i
 ssues.\n\n\n\nPrior to joining Boeing\, Susan worked for six years as a le
 gislative aide on Capitol Hill focusing on international trade and defense
  policy.\n\n\n\nSusan holds a BA in International Studies from University 
 of Washington and a MA in International Affairs from The George Washington
  University.\n
CATEGORIES:Speakers
END:VEVENT
BEGIN:VTIMEZONE
TZID:America/Los_Angeles
X-LIC-LOCATION:America/Los_Angeles
BEGIN:DAYLIGHT
DTSTART:20240310T030000
TZOFFSETFROM:-0800
TZOFFSETTO:-0700
TZNAME:PDT
END:DAYLIGHT
END:VTIMEZONE
END:VCALENDAR