BEGIN:VCALENDAR
VERSION:2.0
PRODID:-//wp-events-plugin.com//7.2.3.1//EN
TZID:America/Los_Angeles
X-WR-TIMEZONE:America/Los_Angeles
BEGIN:VEVENT
UID:328@usrotary.org
DTSTART;TZID=America/Los_Angeles:20250904T070000
DTEND;TZID=America/Los_Angeles:20250904T083000
DTSTAMP:20250826T170009Z
URL:https://usrotary.org/events/program-rotary-district-governor-jeffrey-b
 orek-september-4-2025/
SUMMARY:Program:  Rotary District Governor Jeffrey Borek\, September 4\, 20
 25
DESCRIPTION:\nJoin the University Sunrise Rotary Club for a program featu
 ring District Governor Jeffrey Borek.\n\n\n\nThe&nbsp\;program will be pre
 sented in person and on Zoom on Thursday morning.&nbsp\; The formal meetin
 g including the program runs from 7:30-8:30 a.m.&nbsp\;&nbsp\;No registrat
 ion is required\, and the program is free.\n\n\n\n\nThe in-person meeting 
 will be at the North Seattle Church (2150 N 122nd St\, Seattle). Doors ope
 n at 7:00 a.m. and the program begins at 7:30 a.m.\n\n\n\n\n\nClick here t
 o join the meeting on Zoom.  The line will open shortly after 7:00 a.m.\n
 \n\n\n\n\n\n\n\nDistrict Governor Jeffrey Borek&nbsp\;has been with the IB
 M Corporation for over 25 years having worked wireless startup McCaw Cellu
 lar just prior.&nbsp\; He currently leads an open source software initiati
 ve and works to build a scalable and consistent artificial intelligence so
 ftware supply chain security framework.&nbsp\; He also promotes the concep
 ts of open source AI as an international speaker.\n\n\n\nIn 1987\, Jeff wa
 s chosen by the Rotary Club of Seattle to be an England Group Study Exchan
 ge Team member.  Thirteen years later he joined the Rotary Club of Seatt
 le.  He served as Seattle 4’s Foundation President in 2018-19 and was C
 lub President in 2020-21.  He was selected to join the line of Governors i
 n the fall of 2022\, which was announced locally by the first female Presi
 dent of Rotary International\, Jennifer Jones.\n\n\n\nJeff lives on Mercer
  Island with his wife of 28 years Kellis.&nbsp\; Jeff and Kellis were both
  born in the Pacific NW and have a son\, Jackson William Borek. &nbsp\;Kel
 lis recently joined the Mercer Island Rotary Club. &nbsp\;Jeff holds a BS 
 in Mechanical Engineering from the&nbsp\;UW and an MBA from Seattle Univer
 sity.\n
CATEGORIES:Speakers
END:VEVENT
BEGIN:VTIMEZONE
TZID:America/Los_Angeles
X-LIC-LOCATION:America/Los_Angeles
BEGIN:DAYLIGHT
DTSTART:20250309T030000
TZOFFSETFROM:-0800
TZOFFSETTO:-0700
TZNAME:PDT
END:DAYLIGHT
END:VTIMEZONE
END:VCALENDAR