BEGIN:VCALENDAR
VERSION:2.0
PRODID:-//wp-events-plugin.com//7.2.3.1//EN
TZID:America/Los_Angeles
X-WR-TIMEZONE:America/Los_Angeles
BEGIN:VEVENT
UID:370@usrotary.org
DTSTART;TZID=America/Los_Angeles:20260528T070000
DTEND;TZID=America/Los_Angeles:20260528T083000
DTSTAMP:20260308T212448Z
URL:https://usrotary.org/events/program-tetiana-nokhatskav-and-yuliia-matv
 ieieva-changing-and-saving-lives-in-ukraine-the-volia-fund-and-rotary-may-
 28-2026/
SUMMARY:Program: Tetiana Nokhatskav and Yuliia Matvieieva\, "Changing and 
 Saving Lives in Ukraine: The Volia Fund and Rotary\," May 28\, 2026
DESCRIPTION:\nJoin the University Sunrise Rotary Club for a program featu
 ring  Tetiana Nokhatska\, Board President and Cofounder\, and Yuliia Matvi
 eieva\, Board Member and Director of UAble Project.\n\n\n\nThe&nbsp\;progr
 am will be presented on Zoom on Thursday morning with the Zoom line openin
 g at 7 a.m.&nbsp\; The formal meeting including the program runs from 7:30
 -8:30 a.m.&nbsp\;&nbsp\;No registration is required\, and the program is f
 ree.\n\n\n\nThe meeting will be available via Zoom.&nbsp\; Click here to j
 oin the meeting Thursday morning.&nbsp\; The Zoom line will open shortly a
 fter 7 a.m.\n\n\n\n\n\n\n\nYuliia Matvieieva\n\n\n\nTetiana Nokhatskav\n\n
 \n\nThe Volia Fund is a 501(c)3 nonprofit that raises funds for delivery o
 f programs and support services in Ukraine for Ukraine Defenders and Citiz
 ens.  Volia is a partnership platform fostering target tech-rich projects 
 in defense\, research\, manufacturing\, and education fields that protect 
 and boost well-being in Ukraine. They will also provide an update on the c
 urrent war and living conditions in Ukraine. \n\n\n\nWebsite:  www.volia
 .fund\n\n\n\n\n
CATEGORIES:Speakers
END:VEVENT
BEGIN:VTIMEZONE
TZID:America/Los_Angeles
X-LIC-LOCATION:America/Los_Angeles
BEGIN:DAYLIGHT
DTSTART:20260308T030000
TZOFFSETFROM:-0800
TZOFFSETTO:-0700
TZNAME:PDT
END:DAYLIGHT
END:VTIMEZONE
END:VCALENDAR