BEGIN:VCALENDAR
VERSION:2.0
PRODID:-//wp-events-plugin.com//7.2.3.1//EN
TZID:America/Los_Angeles
X-WR-TIMEZONE:America/Los_Angeles
BEGIN:VEVENT
UID:291@usrotary.org
DTSTART;TZID=America/Los_Angeles:20250717T070000
DTEND;TZID=America/Los_Angeles:20250717T083000
DTSTAMP:20250625T224705Z
URL:https://usrotary.org/events/program-tinfa-july-17-2025/
SUMMARY:Program:  TINFA\, July 17\, 2025
DESCRIPTION:\nJoin the University Sunrise Rotary Club for a program featu
 ring Emma La Du and MIke Madden of TINFA.\n\n\n\nThe&nbsp\;program will be
  presented in person and on Zoom on Thursday morning.&nbsp\; The formal me
 eting including the program runs from 7:30-8:30 a.m.&nbsp\;&nbsp\;No regis
 tration is required\, and the program is free.\n\n\n\n\nThe in-person meet
 ing will be at the Wedgwood Community Church at 8201 30th Ave NE\, Seattle
 . Doors open at 7:00 a.m. and the program begins at 7:30 a.m.\n\n\n\n\n\nC
 lick here to join the meeting on Zoom.  The line will open shortly after 
 7:00 a.m.\n\n\n\n\n\n
CATEGORIES:Speakers
END:VEVENT
BEGIN:VTIMEZONE
TZID:America/Los_Angeles
X-LIC-LOCATION:America/Los_Angeles
BEGIN:DAYLIGHT
DTSTART:20250309T030000
TZOFFSETFROM:-0800
TZOFFSETTO:-0700
TZNAME:PDT
END:DAYLIGHT
END:VTIMEZONE
END:VCALENDAR