BEGIN:VCALENDAR
VERSION:2.0
PRODID:-//wp-events-plugin.com//7.2.3.1//EN
TZID:America/Los_Angeles
X-WR-TIMEZONE:America/Los_Angeles
BEGIN:VEVENT
UID:329@usrotary.org
DTSTART;TZID=America/Los_Angeles:20260618T070000
DTEND;TZID=America/Los_Angeles:20260618T083000
DTSTAMP:20251221T203505Z
URL:https://usrotary.org/events/program-tinfa-update-mike-madden-and-emma-
 le-du-january-22-2026/
SUMMARY:Program:  TINFA Update\, Mike Madden and Emma Le Du\, June 18\, 202
 6
DESCRIPTION:\nJoin the University Sunrise Rotary Club for a program featu
 ring Mike Madden and Emma Le Du of TINFA.\n\n\n\nThe&nbsp\;program will be
  presented in person and on Zoom on Thursday morning.&nbsp\; The formal me
 eting including the program runs from 7:30-8:30 a.m.&nbsp\;&nbsp\;No regis
 tration is required\, and the program is free.\n\n\n\n\nThe in-person meet
 ing will be at the North Seattle Church (2150 N 122nd St\, Seattle). Doors
  open at 7:00 a.m. and the program begins at 7:30 a.m.\n\n\n\n\n\nClick he
 re to join the meeting on Zoom.  The line will open shortly after 7:00 a.
 m.\n\n\n\n\n\n\n\n\n\n\n\n\nTechnology &amp\; INFormation for All\n\n\n\n\
 n\n\n\nOUR MIssion:\n\n\n\nEmpower teachers to bring 21st century skills t
 o kids in underserved areas of developing countries.&nbsp\;\n\n\n\nOUR vis
 ion:\n\n\n\n\n\n\n\nFor all children to&nbsp\;have the opportunity to&nbsp
 \;discover and pursue their dreams.\n\n\n\nWhat We Do:\n\n\n\nTINFA provid
 es equipment and training to teachers and partners with education official
 s and parents to facilitate activities to keep kids in school.\n
CATEGORIES:Speakers
END:VEVENT
BEGIN:VTIMEZONE
TZID:America/Los_Angeles
X-LIC-LOCATION:America/Los_Angeles
BEGIN:DAYLIGHT
DTSTART:20260308T030000
TZOFFSETFROM:-0800
TZOFFSETTO:-0700
TZNAME:PDT
END:DAYLIGHT
END:VTIMEZONE
END:VCALENDAR