BEGIN:VCALENDAR
VERSION:2.0
PRODID:-//wp-events-plugin.com//7.2.3.1//EN
TZID:America/Los_Angeles
X-WR-TIMEZONE:America/Los_Angeles
BEGIN:VEVENT
UID:234@usrotary.org
DTSTART;TZID=America/Los_Angeles:20240926T070000
DTEND;TZID=America/Los_Angeles:20240926T081500
DTSTAMP:20240924T184358Z
URL:https://usrotary.org/events/program-virginia-burton-focusing-on-soluti
 ons-september-26-2024/
SUMMARY:Program:  Virginia Burton\, "Focusing on Solutions\," September 26\
 , 2024
DESCRIPTION:\nJoin the&nbsp\;University Sunrise Rotary Club&nbsp\;for a pro
 gram featuring Virginia Burton.\n\n\n\nThe&nbsp\;program will be presented
  on Zoom on Thursday morning with the Zoom line opening at 7 a.m. The form
 al meeting including the program runs from 7:30-8:30 a.m. No registration 
 is required\, and the program is free.  Click here to join the meeting Thu
 rsday morning.\n\n\n\nA new documentary by Ginny\, "Beyond Closed Doors:" 
  https://www.youtube.com/watch?v=LeP_UUZ4wTU\n\n\n\n\n\n\n\n\n\n\n\nVirgin
 ia Burton is the Founder of the O-UT program--Overhaul-Unrelenting Transfi
 guration (O-UT).   The program has organically grown under Virginia's driv
 en leadership in the reentry and social service field. Virginia has had pe
 rsonal and professional experience with criminal behavior\, addiction\, in
 carceration\, homelessness\, services\, and overcoming tragedy.  She is no
 w a University of Washington graduate and Washington State Truman Scholar.
 \n\n\n\nVirginia has developed a framework to equip people like herself to
  overcome their challenges and live the life of their choosing by gaining 
 tools to find and maintain independence.&nbsp\; She has more than ten year
 s of experience serving adults in the reentry\, behavioral health\, housin
 g first\, and homeless sectors of society. She has more than 30 years of e
 xperience with addiction and recovery. She serves as a consultant in areas
  of government\, currently working with the State of Tennessee Department 
 of Human Services. Virginia is the CEO of VB Media. She directs and hosts 
 a documentary series called Modern America\; showcasing the real stories o
 n the other side of policy in the U.S.\n
CATEGORIES:Speakers
END:VEVENT
BEGIN:VTIMEZONE
TZID:America/Los_Angeles
X-LIC-LOCATION:America/Los_Angeles
BEGIN:DAYLIGHT
DTSTART:20240310T030000
TZOFFSETFROM:-0800
TZOFFSETTO:-0700
TZNAME:PDT
END:DAYLIGHT
END:VTIMEZONE
END:VCALENDAR