BEGIN:VCALENDAR
VERSION:2.0
PRODID:-//wp-events-plugin.com//7.2.3.1//EN
TZID:America/Los_Angeles
X-WR-TIMEZONE:America/Los_Angeles
BEGIN:VEVENT
UID:346@usrotary.org
DTSTART;TZID=America/Los_Angeles:20260507T070000
DTEND;TZID=America/Los_Angeles:20260507T083000
DTSTAMP:20251201T184946Z
URL:https://usrotary.org/events/program-wen-chen-chinas-global-impact-may-
 7-2026/
SUMMARY:Program\, Wen Chen\, "China's Global Impact\," May 7\, 2026
DESCRIPTION:\nJoin the&nbsp\;University Sunrise Rotary Club&nbsp\;for a pro
 gram featuring Wen Chen.\n\n\n\nThe&nbsp\;program will be presented in-per
 son and on Zoom on Thursday morning.&nbsp\; The formal meeting including t
 he program runs from 7:30-8:30 a.m.&nbsp\;&nbsp\;No registration is requir
 ed\, and the program is free.\n\n\n\n\nThe in-person meeting will be at th
 e North Seattle Church (2150 N 122nd St\, Seattle).&nbsp\; Doors open at 7
 :00 a.m. and the program begins at 7:30 a.m.\n\n\n\n\n\nClick here to join
  the meeting on Zoom.&nbsp\; The line will open shortly after 7:00 a.m.\n\
 n\n\n\n\n\n\n\n\n\n\n\nWen was born in China at the end of the Great Cultu
 ral Revolution. Being the victim of this horrific atrocity that killed two
  million intellectuals and destroyed traditional Chinese culture\, Wen's p
 arents had mixed feelings about her education. Despite their discouragemen
 t\, Wen eventually won a national prize at a science competition when she 
 was 16. Hence\, she went to a top university for undergraduate study and t
 hen came to the U.S. in 1994 for graduate school. Wen received a Ph.D. in 
 Biology at the California Institute of Technology in 2000. Because of her 
 personal experience of being brainwashed in China\, she decided to voice f
 or the voiceless. Since 2012\, she has given hundreds of presentations to 
 community organizations about Chinese culture\, history\, and society.\n\n
 \n\nWen has been working for Caltech since 2000 as a biologist and informa
 tion scientist. Her everyday work includes scientific outreach by speaking
  at conferences and seminars at universities. In her personal life\, she i
 s an activist for human rights in China. She also serves as a board member
  and community liaison for Caltech Women in Biology and Biological Enginee
 ring. \n\n\n\nShe has a blog:  https://wenchenview.blogspot.com/\n
CATEGORIES:Speakers
END:VEVENT
BEGIN:VTIMEZONE
TZID:America/Los_Angeles
X-LIC-LOCATION:America/Los_Angeles
BEGIN:DAYLIGHT
DTSTART:20260308T030000
TZOFFSETFROM:-0800
TZOFFSETTO:-0700
TZNAME:PDT
END:DAYLIGHT
END:VTIMEZONE
END:VCALENDAR