BEGIN:VCALENDAR
VERSION:2.0
PRODID:-//wp-events-plugin.com//7.2.3.1//EN
TZID:America/Los_Angeles
X-WR-TIMEZONE:America/Los_Angeles
BEGIN:VEVENT
UID:303@usrotary.org
DTSTART;TZID=America/Los_Angeles:20250808T184000
DTEND;TZID=America/Los_Angeles:20250808T220000
DTSTAMP:20250703T165631Z
URL:https://usrotary.org/events/rotary-district-5030-night-at-the-mariners
 -august-8-2025/
SUMMARY:Rotary District 5030 Night at the Mariners\, August 8\, 2025
DESCRIPTION:\nFriday\, August 8 = Rotary District 5030 (essentially King C
 ounty) Night at the Mariners  ⚾ Rotary Night at the Mariners – Let’
 s Hit 100! ⚾ – Rotary District 5030\n
CATEGORIES:Social
END:VEVENT
BEGIN:VTIMEZONE
TZID:America/Los_Angeles
X-LIC-LOCATION:America/Los_Angeles
BEGIN:DAYLIGHT
DTSTART:20250309T030000
TZOFFSETFROM:-0800
TZOFFSETTO:-0700
TZNAME:PDT
END:DAYLIGHT
END:VTIMEZONE
END:VCALENDAR