BEGIN:VCALENDAR
VERSION:2.0
PRODID:-//wp-events-plugin.com//7.2.3.1//EN
TZID:America/Los_Angeles
X-WR-TIMEZONE:America/Los_Angeles
BEGIN:VEVENT
UID:310@usrotary.org
DTSTART;TZID=America/Los_Angeles;VALUE=DATE:20250712
DTEND;TZID=America/Los_Angeles;VALUE=DATE:20250713
DTSTAMP:20250707T214831Z
URL:https://usrotary.org/events/seattle-one-day-of-service-july-122025/
SUMMARY:Seattle One Day of Service\, July 12\,2025
DESCRIPTION:\nSaturday\, July 12\, Seattle One Day of Service = Greenbelt 
 Clean Up with We Heart Seattle at the Day of Service Events 2025\n
CATEGORIES:Community Service
END:VEVENT
BEGIN:VTIMEZONE
TZID:America/Los_Angeles
X-LIC-LOCATION:America/Los_Angeles
BEGIN:DAYLIGHT
DTSTART:20250309T030000
TZOFFSETFROM:-0800
TZOFFSETTO:-0700
TZNAME:PDT
END:DAYLIGHT
END:VTIMEZONE
END:VCALENDAR