BEGIN:VCALENDAR
VERSION:2.0
PRODID:-//wp-events-plugin.com//7.2.3.1//EN
TZID:America/Los_Angeles
X-WR-TIMEZONE:America/Los_Angeles
BEGIN:VEVENT
UID:292@usrotary.org
DTSTART;TZID=America/Los_Angeles:20250731T163000
DTEND;TZID=America/Los_Angeles:20250731T180000
DTSTAMP:20250703T164558Z
URL:https://usrotary.org/events/social-july-31-2025/
SUMMARY:Social:  Thirsty Thursday\, 430-600 p.m.\, July 31\, 2025 (No morni
 ng meeting)
DESCRIPTION:\nThursday\, July 31\, 4:30 - 6 pm "Thirsty Thursday" at Magnus
 on Cafe and Brewery— no club meeting on this 5th Thursday of the month\
 , simply a fun Club Service social gathering. Tell a friend\, bring a frie
 nd!\n\n\n\nLOCATION:  Magnuson Cafe and Brewery\, 7801 62nd Ave. NE\, Seat
 tle\, WA 98115\n\n\n\n\n
CATEGORIES:Social
END:VEVENT
BEGIN:VTIMEZONE
TZID:America/Los_Angeles
X-LIC-LOCATION:America/Los_Angeles
BEGIN:DAYLIGHT
DTSTART:20250309T030000
TZOFFSETFROM:-0800
TZOFFSETTO:-0700
TZNAME:PDT
END:DAYLIGHT
END:VTIMEZONE
END:VCALENDAR