BEGIN:VCALENDAR
VERSION:2.0
PRODID:-//wp-events-plugin.com//7.2.3.1//EN
TZID:America/Los_Angeles
X-WR-TIMEZONE:America/Los_Angeles
BEGIN:VEVENT
UID:306@usrotary.org
DTSTART;TZID=America/Los_Angeles:20260430T163000
DTEND;TZID=America/Los_Angeles:20260430T180000
DTSTAMP:20260423T143900Z
URL:https://usrotary.org/events/social-thirsty-thursday-430-600-p-m-april-
 30-2026-no-morning-meeting/
SUMMARY:Social: Thirsty Thursday\, 430-600 p.m.\, April 30\, 2026 (No morni
 ng meeting)
DESCRIPTION:\nThursday\, April 30\, 4:30 – 6 pm&nbsp\;“Thirsty Thursday
 ” — no club meeting on this 5th&nbsp\;Thursday of the month\, simply a
  fun Club Service social gathering. Tell a friend\, bring a friend!\n\n\n\
 nMagnuson Brewery  7801 62nd Ave. NE. Seattle\, WA 98115\n\n\n\n\n\n\n\n\n
CATEGORIES:Social
END:VEVENT
BEGIN:VTIMEZONE
TZID:America/Los_Angeles
X-LIC-LOCATION:America/Los_Angeles
BEGIN:DAYLIGHT
DTSTART:20260308T030000
TZOFFSETFROM:-0800
TZOFFSETTO:-0700
TZNAME:PDT
END:DAYLIGHT
END:VTIMEZONE
END:VCALENDAR