BEGIN:VCALENDAR
VERSION:2.0
PRODID:-//wp-events-plugin.com//7.2.3.1//EN
TZID:America/Los_Angeles
X-WR-TIMEZONE:America/Los_Angeles
BEGIN:VEVENT
UID:305@usrotary.org
DTSTART;TZID=America/Los_Angeles:20260129T163000
DTEND;TZID=America/Los_Angeles:20260129T180000
DTSTAMP:20260123T022000Z
URL:https://usrotary.org/events/social-thirsty-thursday-430-600-p-m-januar
 y-29-2026-no-morning-meeting/
SUMMARY:Social: Thirsty Thursday\, 430-600 p.m.\, January 29\, 2026 (No mor
 ning meeting)
DESCRIPTION:\nThursday\, January 29\, 4:30 – 6 pm “Thirsty Thursday”
  at the Growler Guys — no club meeting on this 5th Thursday of the mont
 h\, simply a fun Club Service social gathering. Tell a friend\, bring a fr
 iend!\n\n\n\nLOCATION:&nbsp\;Growler Guys\, 8500 Lake City Way NE\, Seattl
 e\, WA 98115\n\n\n\n\n
CATEGORIES:Social
END:VEVENT
BEGIN:VTIMEZONE
TZID:America/Los_Angeles
X-LIC-LOCATION:America/Los_Angeles
BEGIN:STANDARD
DTSTART:20251102T010000
TZOFFSETFROM:-0700
TZOFFSETTO:-0800
TZNAME:PST
END:STANDARD
END:VTIMEZONE
END:VCALENDAR