BEGIN:VCALENDAR
VERSION:2.0
PRODID:-//wp-events-plugin.com//7.2.3.1//EN
TZID:America/Los_Angeles
X-WR-TIMEZONE:America/Los_Angeles
BEGIN:VEVENT
UID:361@usrotary.org
DTSTART;TZID=America/Los_Angeles:20260730T163000
DTEND;TZID=America/Los_Angeles:20260730T180000
DTSTAMP:20260202T192313Z
URL:https://usrotary.org/events/social-thirsty-thursday-430-600-p-m-july-3
 0-2026-no-morning-meeting/
SUMMARY:Social: Thirsty Thursday\, 430-600 p.m.\, July 30\, 2026 (No mornin
 g meeting)
DESCRIPTION:\nThursday\, January 29\, 4:30 – 6 pm “Thirsty Thursday”
  — no club meeting on this 5th Thursday of the month\, simply a fun Clu
 b Service social gathering. Tell a friend\, bring a friend!\n
CATEGORIES:Speakers
END:VEVENT
BEGIN:VTIMEZONE
TZID:America/Los_Angeles
X-LIC-LOCATION:America/Los_Angeles
BEGIN:DAYLIGHT
DTSTART:20260308T030000
TZOFFSETFROM:-0800
TZOFFSETTO:-0700
TZNAME:PDT
END:DAYLIGHT
END:VTIMEZONE
END:VCALENDAR