BEGIN:VCALENDAR
VERSION:2.0
PRODID:-//wp-events-plugin.com//7.2.3.1//EN
TZID:America/Los_Angeles
X-WR-TIMEZONE:America/Los_Angeles
BEGIN:VEVENT
UID:304@usrotary.org
DTSTART;TZID=America/Los_Angeles:20251030T163000
DTEND;TZID=America/Los_Angeles:20251030T180000
DTSTAMP:20251024T020223Z
URL:https://usrotary.org/events/social-thirsty-thursday-430-600-p-m-octobe
 r-30-2025-no-morning-meeting/
SUMMARY:Social: Thirsty Thursday\, 430-600 p.m.\, October 30\, 2025 (No mor
 ning meeting)
DESCRIPTION:\nThursday\, October 30\, 4:30 – 6 pm “Thirsty Thursday.
 ”  This month's Thirsty Thursday location is at Growler Guys\, 8500 Lake
  City Way NE.\n\n\n\nThese will be no club meeting on this 5th Thursday o
 f the month\, simply a fun Club Service social gathering. Tell a friend\, 
 bring a friend!\n\n\n\n\n
CATEGORIES:Social
END:VEVENT
BEGIN:VTIMEZONE
TZID:America/Los_Angeles
X-LIC-LOCATION:America/Los_Angeles
BEGIN:DAYLIGHT
DTSTART:20250309T030000
TZOFFSETFROM:-0800
TZOFFSETTO:-0700
TZNAME:PDT
END:DAYLIGHT
END:VTIMEZONE
END:VCALENDAR