BEGIN:VCALENDAR
VERSION:2.0
PRODID:-//wp-events-plugin.com//7.2.3.1//EN
TZID:America/Los_Angeles
X-WR-TIMEZONE:America/Los_Angeles
BEGIN:VEVENT
UID:205@usrotary.org
DTSTART;TZID=America/Los_Angeles:20240905T070000
DTEND;TZID=America/Los_Angeles:20240905T083000
DTSTAMP:20240825T200526Z
URL:https://usrotary.org/events/stuart-elway/
SUMMARY:H. Stuart Elway\, Ph.D.\, Cascade PBS/Elway Poll\, "Red &amp\; Blue
  in the Evergreen State\," September 5\, 2024
DESCRIPTION:\nJoin the University Sunrise Rotary Club for a program featu
 ring H. Stuart Elway of the Elway Poll.\n\n\n\nThe&nbsp\;program will be p
 resented in-person and on Zoom on Thursday morning informally beginning at
  7 a.m. The formal meeting including the program runs from 7:30-8:30 a.m. 
 No registration is required\, and the program is free.\n\n\n\nThe in-perso
 n meeting will be at the Wedgwood Community Church at 8201 30th Ave NE\, S
 eattle.\n\n\n\nThe meeting will also be available via Zoom. You can click
  here to join the Zoom meeting.\n\n\n\n\n\n\n\nH. Stuart Elway\, Ph.D.\, w
 ill trace the evolution of Washington state politics from a “purple” b
 attleground state to a consistently “blue” Democratic state and will l
 ook at what the polling says about the upcoming election in Washington.\n\
 n\n\n\n\n\n\nStuart Elway has been measuring and analyzing public opinion 
 since 1975\, directing hundreds of research projects locally and around th
 e country for large and small businesses\, associations\, non-profits\, fo
 undations\, public agencies from federal to local\, and media outlets.\n\n
 \n\nHe directed the Seattle Times Washington Poll from 1984-2000 and start
 ed The Elway Poll in 1992\, which recently became the Cascade PBS|Elway Po
 ll\, an on-going\, non-partisan analysis of public opinion in Washington s
 tate.\n\n\n\nIn addition to being regularly quoted in Northwest media\, El
 way has appeared on every television network and been quoted in nearly eve
 ry major newspaper in the country.\n\n\n\nElway\, who holds a Ph.D. in Com
 munications\, has taught in the public affairs graduate schools at the Uni
 versity of Washington and The Evergreen State College\, and has been an Af
 filiated Research Associate at Heritage University.\n
CATEGORIES:Speakers
END:VEVENT
BEGIN:VTIMEZONE
TZID:America/Los_Angeles
X-LIC-LOCATION:America/Los_Angeles
BEGIN:DAYLIGHT
DTSTART:20240310T030000
TZOFFSETFROM:-0800
TZOFFSETTO:-0700
TZNAME:PDT
END:DAYLIGHT
END:VTIMEZONE
END:VCALENDAR