BEGIN:VCALENDAR
VERSION:2.0
PRODID:-//wp-events-plugin.com//7.2.3.1//EN
TZID:America/Los_Angeles
X-WR-TIMEZONE:America/Los_Angeles
BEGIN:VEVENT
UID:208@usrotary.org
DTSTART;TZID=America/Los_Angeles:20240915T073000
DTEND;TZID=America/Los_Angeles:20240915T083000
DTSTAMP:20240906T201630Z
URL:https://usrotary.org/events/sunday-breakfast-21/
SUMMARY:Sunday Breakfast (Informal)
DESCRIPTION:\nThe Egg and Us\, 4609 14th Ave NW\, Seattle\, WA 98107\n
CATEGORIES:Social
END:VEVENT
BEGIN:VTIMEZONE
TZID:America/Los_Angeles
X-LIC-LOCATION:America/Los_Angeles
BEGIN:DAYLIGHT
DTSTART:20240310T030000
TZOFFSETFROM:-0800
TZOFFSETTO:-0700
TZNAME:PDT
END:DAYLIGHT
END:VTIMEZONE
END:VCALENDAR