BEGIN:VCALENDAR
VERSION:2.0
PRODID:-//wp-events-plugin.com//7.2.3.1//EN
TZID:America/Los_Angeles
X-WR-TIMEZONE:America/Los_Angeles
BEGIN:VEVENT
UID:354@usrotary.org
DTSTART;TZID=America/Los_Angeles:20260921T173000
DTEND;TZID=America/Los_Angeles:20260921T203000
DTSTAMP:20260107T222535Z
URL:https://usrotary.org/events/teen-feed-13/
SUMMARY:Teen Feed
DESCRIPTION:\nTeen Feed is a vital organization in our community dedicated 
 to supporting homeless and at-risk youth. They believe that all young peop
 le deserve to have their basic needs met and work to provide nutritious me
 als\, build strong relationships\, and connect youth with essential resour
 ces.\n\n\n\nJoin us at their University District location:\n\n\n\nUniversi
 ty Congregational United Church of Christ 4515 16th Ave NE Seattle\, WA 98
 105-4201\n\n\n\n\n
CATEGORIES:Community Service
END:VEVENT
BEGIN:VTIMEZONE
TZID:America/Los_Angeles
X-LIC-LOCATION:America/Los_Angeles
BEGIN:DAYLIGHT
DTSTART:20260308T030000
TZOFFSETFROM:-0800
TZOFFSETTO:-0700
TZNAME:PDT
END:DAYLIGHT
END:VTIMEZONE
END:VCALENDAR