BEGIN:VCALENDAR
VERSION:2.0
PRODID:-//wp-events-plugin.com//7.2.3.1//EN
TZID:America/Los_Angeles
X-WR-TIMEZONE:America/Los_Angeles
BEGIN:VEVENT
UID:355@usrotary.org
DTSTART;TZID=America/Los_Angeles:20261116T173000
DTEND;TZID=America/Los_Angeles:20261116T203000
DTSTAMP:20260107T222645Z
URL:https://usrotary.org/events/teen-feed-14/
SUMMARY:Teen Feed
DESCRIPTION:\nTeen Feed is a vital organization in our community dedicated 
 to supporting homeless and at-risk youth. They believe that all young peop
 le deserve to have their basic needs met and work to provide nutritious me
 als\, build strong relationships\, and connect youth with essential resour
 ces.\n\n\n\nJoin us at their University District location:\n\n\n\nUniversi
 ty Congregational United Church of Christ 4515 16th Ave NE Seattle\, WA 98
 105-4201\n\n\n\n\n
CATEGORIES:Community Service
END:VEVENT
BEGIN:VTIMEZONE
TZID:America/Los_Angeles
X-LIC-LOCATION:America/Los_Angeles
BEGIN:STANDARD
DTSTART:20261101T010000
TZOFFSETFROM:-0700
TZOFFSETTO:-0800
TZNAME:PST
END:STANDARD
END:VTIMEZONE
END:VCALENDAR