BEGIN:VCALENDAR
VERSION:2.0
PRODID:-//wp-events-plugin.com//7.2.3.1//EN
TZID:America/Los_Angeles
X-WR-TIMEZONE:America/Los_Angeles
BEGIN:VEVENT
UID:250@usrotary.org
DTSTART;TZID=America/Los_Angeles:20241118T173000
DTEND;TZID=America/Los_Angeles:20241118T200000
DTSTAMP:20241025T234255Z
URL:https://usrotary.org/events/teen-feed-5/
SUMMARY:Teen Feed
DESCRIPTION:\nUniversity Lutheran Church (corner of NE 50th &amp\; 16th Ave
 . NE) Monday\, Nov. 18\, 5:30 pm to 8 pm\n\n\n\nSign up or contact Mike Ma
 dden or Scott Jamieson to volunteer \n\n\n\nMORE INFORMATION:\n\n\n\nTeen 
 Feeds occur on the third Monday of each month at a local church.&nbsp\; Th
 ese dinners are prepared by our volunteers for young\, homeless adults in 
 the University area.&nbsp\; The dinners are a crucial part of each guest
 ’s daily nutrition.&nbsp\; Volunteers can bring adult family members or 
 friends to help.\n\n\n\nSign up to volunteer.\n
CATEGORIES:Community Service
END:VEVENT
BEGIN:VTIMEZONE
TZID:America/Los_Angeles
X-LIC-LOCATION:America/Los_Angeles
BEGIN:STANDARD
DTSTART:20241103T010000
TZOFFSETFROM:-0700
TZOFFSETTO:-0800
TZNAME:PST
END:STANDARD
END:VTIMEZONE
END:VCALENDAR