BEGIN:VCALENDAR
VERSION:2.0
PRODID:-//wp-events-plugin.com//7.2.3.1//EN
TZID:America/Los_Angeles
X-WR-TIMEZONE:America/Los_Angeles
BEGIN:VEVENT
UID:276@usrotary.org
DTSTART;TZID=America/Los_Angeles:20250317T000000
DTEND;TZID=America/Los_Angeles:20250317T000000
DTSTAMP:20250228T005349Z
URL:https://usrotary.org/events/teen-feed-6/
SUMMARY:Teen Feed
DESCRIPTION:\n✅ Teen Feed – March 17th\n\n\n\nJoin us as we provide mea
 ls and support to homeless youth in our community. These quarterly events 
 are a cornerstone of our mission to serve.\n\n\n\n\n
CATEGORIES:Community Service
END:VEVENT
BEGIN:VTIMEZONE
TZID:America/Los_Angeles
X-LIC-LOCATION:America/Los_Angeles
BEGIN:DAYLIGHT
DTSTART:20250309T030000
TZOFFSETFROM:-0800
TZOFFSETTO:-0700
TZNAME:PDT
END:DAYLIGHT
END:VTIMEZONE
END:VCALENDAR