BEGIN:VCALENDAR
VERSION:2.0
PRODID:-//wp-events-plugin.com//7.2.3.1//EN
TZID:America/Los_Angeles
X-WR-TIMEZONE:America/Los_Angeles
BEGIN:VEVENT
UID:251@usrotary.org
DTSTART;TZID=America/Los_Angeles:20250419T160000
DTEND;TZID=America/Los_Angeles:20250419T200000
DTSTAMP:20241202T215134Z
URL:https://usrotary.org/events/the-big-taste-april-19-2025/
SUMMARY:The Big Taste\, April 19\, 2025
DESCRIPTION:\nMore information here.\n\n\n\n \n
CATEGORIES:Community Service,Social
END:VEVENT
BEGIN:VTIMEZONE
TZID:America/Los_Angeles
X-LIC-LOCATION:America/Los_Angeles
BEGIN:DAYLIGHT
DTSTART:20250309T030000
TZOFFSETFROM:-0800
TZOFFSETTO:-0700
TZNAME:PDT
END:DAYLIGHT
END:VTIMEZONE
END:VCALENDAR