BEGIN:VCALENDAR
VERSION:2.0
PRODID:-//wp-events-plugin.com//7.2.3.1//EN
TZID:America/Los_Angeles
X-WR-TIMEZONE:America/Los_Angeles
BEGIN:VEVENT
UID:325@usrotary.org
DTSTART;TZID=America/Los_Angeles:20250920T180000
DTEND;TZID=America/Los_Angeles:20250920T210000
DTSTAMP:20250822T214838Z
URL:https://usrotary.org/events/tinfa-fundraiser-gala-september-20-2025/
SUMMARY:TINFA Fundraiser Gala\, September 20\, 2025
DESCRIPTION:\nSaturday\, September 20th: TINFA Fundraiser Gala to support 
 education in rural Guatemala\, Plymouth Congregational.\n\n\n\nEmail Mike 
 Madden (mikeminseattle@gmail.com) or Pam Mushen (pdmushen@gmail.com) to ge
 t on the guest list.\n\n\n\n\n
CATEGORIES:Community Service
END:VEVENT
BEGIN:VTIMEZONE
TZID:America/Los_Angeles
X-LIC-LOCATION:America/Los_Angeles
BEGIN:DAYLIGHT
DTSTART:20250309T030000
TZOFFSETFROM:-0800
TZOFFSETTO:-0700
TZNAME:PDT
END:DAYLIGHT
END:VTIMEZONE
END:VCALENDAR