BEGIN:VCALENDAR
VERSION:2.0
PRODID:-//wp-events-plugin.com//7.2.3.1//EN
TZID:America/Los_Angeles
X-WR-TIMEZONE:America/Los_Angeles
BEGIN:VEVENT
UID:196@usrotary.org
DTSTART;TZID=America/Los_Angeles;VALUE=DATE:20240808
DTEND;TZID=America/Los_Angeles;VALUE=DATE:20240809
DTSTAMP:20240716T212014Z
URL:https://usrotary.org/events/trip-report-paul-meehan-scott-jamieson-tom
 -ranken/
SUMMARY:Trip Report\, Paul Meehan\, Scott Jamieson\, Tom Ranken
DESCRIPTION:
CATEGORIES:Social
END:VEVENT
BEGIN:VTIMEZONE
TZID:America/Los_Angeles
X-LIC-LOCATION:America/Los_Angeles
BEGIN:DAYLIGHT
DTSTART:20240310T030000
TZOFFSETFROM:-0800
TZOFFSETTO:-0700
TZNAME:PDT
END:DAYLIGHT
END:VTIMEZONE
END:VCALENDAR