BEGIN:VCALENDAR
VERSION:2.0
PRODID:-//wp-events-plugin.com//7.2.3.1//EN
TZID:America/Los_Angeles
X-WR-TIMEZONE:America/Los_Angeles
BEGIN:VEVENT
UID:277@usrotary.org
DTSTART;TZID=America/Los_Angeles;VALUE=DATE:20250510
DTEND;TZID=America/Los_Angeles;VALUE=DATE:20250511
DTSTAMP:20250228T005749Z
URL:https://usrotary.org/events/university-sunrise-planning-retreat-and-so
 cial/
SUMMARY:University Sunrise Planning Retreat and Social
DESCRIPTION:\nOn May 10\, we'll be following up on and building upon the Pl
 anning Retreat that we held two summers ago.  More details will be in the 
 works\, but please stay tuned to "have fun and get things done" on Saturda
 y\, 5/10/2025.\n
CATEGORIES:Speakers
END:VEVENT
BEGIN:VTIMEZONE
TZID:America/Los_Angeles
X-LIC-LOCATION:America/Los_Angeles
BEGIN:DAYLIGHT
DTSTART:20250309T030000
TZOFFSETFROM:-0800
TZOFFSETTO:-0700
TZNAME:PDT
END:DAYLIGHT
END:VTIMEZONE
END:VCALENDAR