BEGIN:VCALENDAR
VERSION:2.0
PRODID:-//wp-events-plugin.com//7.2.3.1//EN
TZID:America/Los_Angeles
X-WR-TIMEZONE:America/Los_Angeles
BEGIN:VEVENT
UID:244@usrotary.org
DTSTART;TZID=America/Los_Angeles:20240830T090000
DTEND;TZID=America/Los_Angeles:20240831T120000
DTSTAMP:20240830T224521Z
URL:https://usrotary.org/events/weheartseattle-clean-up/
SUMMARY:WeHeartSeattle Clean Up
DESCRIPTION:\n\n\n\n\nDetails here.\n\n\n\nAugust 30 and 31 \n\n\n\n9am to
  12&nbsp\;\n\n\n\nElliott Bay marina greenbelt \n\n\n\nuse elliott bay ma
 rina addy&nbsp\;\n\n\n\nThe man who has lived here 8 years named Paul has 
 welcome us to come clean up the area and provide him outreach services.&nb
 sp\;\n
CATEGORIES:Speakers
END:VEVENT
BEGIN:VTIMEZONE
TZID:America/Los_Angeles
X-LIC-LOCATION:America/Los_Angeles
BEGIN:DAYLIGHT
DTSTART:20240310T030000
TZOFFSETFROM:-0800
TZOFFSETTO:-0700
TZNAME:PDT
END:DAYLIGHT
END:VTIMEZONE
END:VCALENDAR