BEGIN:VCALENDAR
VERSION:2.0
PRODID:-//wp-events-plugin.com//7.2.3.1//EN
TZID:America/Los_Angeles
X-WR-TIMEZONE:America/Los_Angeles
BEGIN:VEVENT
UID:300@usrotary.org
DTSTART;TZID=America/Los_Angeles:20251218T070000
DTEND;TZID=America/Los_Angeles:20251218T083000
DTSTAMP:20250625T231829Z
URL:https://usrotary.org/events/white-elephant-holiday-party/
SUMMARY:White Elephant Holiday Party
DESCRIPTION:
CATEGORIES:Social
END:VEVENT
BEGIN:VTIMEZONE
TZID:America/Los_Angeles
X-LIC-LOCATION:America/Los_Angeles
BEGIN:STANDARD
DTSTART:20251102T010000
TZOFFSETFROM:-0700
TZOFFSETTO:-0800
TZNAME:PST
END:STANDARD
END:VTIMEZONE
END:VCALENDAR